BEGIN:VCALENDAR
VERSION:2.0
PRODID:-//eventon.com NONSGML v1.0//EN
CALSCALE:GREGORIAN
METHOD:PUBLISH
BEGIN:VEVENT
UID:69eb3fb2eca9c
DTSTAMP:20260424T100226Z
DTSTART:20240115T090000Z
DTEND:20240115T100000Z
LOCATION:Le Café des enfants 9 Rue des Champs Elysées 38100 Grenoble
SUMMARY:Atelier Signe Hiver
DESCRIPTION:Venez découvrir les signes ou réviser avec votre bébé lors 
 d&rsquo;un atelier spécial hiver! Cet atelier sera l&rsquo;occasion de cha
 nter et de découvrir comment signer: froid\,  neige\,  patin\,  saisons\, 
  chocolat&#8230;  Un moment de partage entre parents et entre enfants.\nht
 tps://massado.fr/events/atelier-signe-hiver/
URL:https://massado.fr/events/atelier-signe-hiver/
END:VEVENT
END:VCALENDAR