BEGIN:VCALENDAR
VERSION:2.0
PRODID:-//eventon.com NONSGML v1.0//EN
CALSCALE:GREGORIAN
METHOD:PUBLISH
BEGIN:VEVENT
UID:69e8f982cd720
DTSTAMP:20260422T163826Z
DTSTART:20210427T203000Z
DTEND:20210427T220000Z
LOCATION:Villa Abry Impasse 115 Bis Cours de la Liberation\,  38100 Grenoble
SUMMARY:Massage bébé à la Villa Abry
DESCRIPTION:Massage bébé à la Villa Abry\nhttps://massado.fr/events/mass
 age-bebe-a-la-maison-abry/
URL:https://massado.fr/events/massage-bebe-a-la-maison-abry/
END:VEVENT
END:VCALENDAR