BEGIN:VCALENDAR
VERSION:2.0
PRODID:-//eventon.com NONSGML v1.0//EN
CALSCALE:GREGORIAN
METHOD:PUBLISH
BEGIN:VEVENT
UID:69e9d9a0da1a1
DTSTAMP:20260423T083440Z
DTSTART:20260519T080000Z
DTEND:20260519T090000Z
LOCATION:Le Café des enfants 9 Rue des Champs Elysées 38100 Grenoble
SUMMARY:Atelier Signe le vocabulaire des animaux
DESCRIPTION:Venez découvrir les signes ou réviser avec votre bébé lors 
 d&rsquo;un atelier spécial animaux sur Grenoble! Comment signer: lapin\,  
 chat\,  cheval\,  cochon\,  éléphant\,  lion\,  escargot&#8230;. Venez ap
 prendre une trentaine de signes\,  5/6  chansons et découvrir 2/3 lires s
 ignés! Cet atelier est ouvert aux enfants de la naissance à 6 ans\, [..]\
 nhttps://massado.fr/events/atelier-signe-le-vocabulaire-des-animaux-18/
URL:https://massado.fr/events/atelier-signe-le-vocabulaire-des-animaux-18/
END:VEVENT
END:VCALENDAR